BEGIN:VCALENDAR
VERSION:2.0
PRODID:-//Evolving Solutions - ECPv6.15.7//NONSGML v1.0//EN
CALSCALE:GREGORIAN
METHOD:PUBLISH
X-WR-CALNAME:Evolving Solutions
X-ORIGINAL-URL:https://evolvingsol.com
X-WR-CALDESC:Events for Evolving Solutions
REFRESH-INTERVAL;VALUE=DURATION:PT1H
X-Robots-Tag:noindex
X-PUBLISHED-TTL:PT1H
BEGIN:VTIMEZONE
TZID:America/Chicago
BEGIN:DAYLIGHT
TZOFFSETFROM:-0600
TZOFFSETTO:-0500
TZNAME:CDT
DTSTART:20200308T080000
END:DAYLIGHT
BEGIN:STANDARD
TZOFFSETFROM:-0500
TZOFFSETTO:-0600
TZNAME:CST
DTSTART:20201101T070000
END:STANDARD
BEGIN:DAYLIGHT
TZOFFSETFROM:-0600
TZOFFSETTO:-0500
TZNAME:CDT
DTSTART:20210314T080000
END:DAYLIGHT
BEGIN:STANDARD
TZOFFSETFROM:-0500
TZOFFSETTO:-0600
TZNAME:CST
DTSTART:20211107T070000
END:STANDARD
BEGIN:DAYLIGHT
TZOFFSETFROM:-0600
TZOFFSETTO:-0500
TZNAME:CDT
DTSTART:20220313T080000
END:DAYLIGHT
BEGIN:STANDARD
TZOFFSETFROM:-0500
TZOFFSETTO:-0600
TZNAME:CST
DTSTART:20221106T070000
END:STANDARD
BEGIN:DAYLIGHT
TZOFFSETFROM:-0600
TZOFFSETTO:-0500
TZNAME:CDT
DTSTART:20230312T080000
END:DAYLIGHT
BEGIN:STANDARD
TZOFFSETFROM:-0500
TZOFFSETTO:-0600
TZNAME:CST
DTSTART:20231105T070000
END:STANDARD
END:VTIMEZONE
BEGIN:VEVENT
DTSTART;TZID=America/Chicago:20220323T153000
DTEND;TZID=America/Chicago:20220323T170000
DTSTAMP:20260420T054355
CREATED:20220114T194944Z
LAST-MODIFIED:20220126T130911Z
UID:9619-1648049400-1648054800@evolvingsol.com
SUMMARY:Dynatrace & Business Observability: Tying IT Metrics to Business Outcomes
DESCRIPTION:Wednesday\, March 23\, 2022 from 3:30 PM – 5:00 PM CST\n\n\n\n\n\n\n\nWhen is a technical problem a business problem? Wouldn’t life be simpler if you always knew the answer to that question? That’s exactly what Dynatrace Business Analytics delivers. \nJoin Robert Stojan\, former Dynatrace customer\, now Client Engineer at Dynatrace\, and Jordan Gador\, Observability Sales Leader at Evolving Solutions\, as they dive into ways to help you provide actionable insights that enable better business outcomes. \nAfter the webinar\, join us for a virtual whiskey tasting experience with David Mays\, Whiskey Educator at TasterPros. You will learn the nuances of how to nose\, taste\, and evaluate just like the pros! \nIn this session we will: \n\nUnderstand the business impact (such as lost revenue) of digital experiences and IT metrics quickly\nDrill down into conversion rate analytics to understand what is causing customers to drop off\nEnsure website or application changes don’t have unforeseen negative impacts before you release to customers\nPull data from a variety of sources to gain a complete picture of your business KPIs\nEnrich your business KPIs with important metadata including audience segments\, functional errors\, and context from business tools – all in one place.\n\nRegister by March 14\, 2022 to reserve your spot and receive your tasting kit prior to the webinar.  \n\n\n\nShare this article:
URL:https://evolvingsol.com/event/dynatrace-business-observability-tying-it-metrics-to-business-outcomes/
CATEGORIES:Events,Partner Events
ATTACH;FMTTYPE=image/jpeg:https://evolvingsol.com/wp-content/uploads/2022/01/3.23.22-Dynatrace-Whiskey-Tasting-scaled.jpg
END:VEVENT
BEGIN:VEVENT
DTSTART;VALUE=DATE:20220315
DTEND;VALUE=DATE:20220318
DTSTAMP:20260420T054355
CREATED:20220207T201202Z
LAST-MODIFIED:20220211T165840Z
UID:9722-1647302400-1647561599@evolvingsol.com
SUMMARY:Wisconsin Midrange Computer Professional Association  Spring Technical Conference
DESCRIPTION:Evolving Solutions is a proud sponsor of the 32nd Annual 2022 Wisconsin Midrange Computer Professional Association Spring Technical Conference. This three-day event is the largest conference of its kind in the Midwest and features key industry leading sessions. \nVisit the Evolving Solutions booth to learn more about how we help our clients modernize and automate their mission-critical applications and infrastructure to support business transformation. \nOn Wednesday\, March 16th\, be sure to join us from 5:00 – 7:30 p.m. at the Sponsor Showcase. We are looking forward to an evening of great food\, drinks\, and networking. \nWe hope to see you there! \nLet’s Connect – Schedule a conversation. \n  \nShare this article:
URL:https://evolvingsol.com/event/wisconsin-midrange-computer-professional-association-spring-technical-conference/
CATEGORIES:Events
ATTACH;FMTTYPE=image/jpeg:https://evolvingsol.com/wp-content/uploads/2022/02/3.15.22-WI-Conference-scaled.jpg
END:VEVENT
BEGIN:VEVENT
DTSTART;TZID=America/Chicago:20220224T110000
DTEND;TZID=America/Chicago:20220224T120000
DTSTAMP:20260420T054355
CREATED:20220105T215153Z
LAST-MODIFIED:20220222T234817Z
UID:9608-1645700400-1645704000@evolvingsol.com
SUMMARY:Data Protection in a Hybrid World
DESCRIPTION:Hybrid Cloud and Cloud-Native adoption have changed the requirements for protecting your organization’s most critical data.\nProtecting these new workflows and digital assets requires technical leaders to reconsider the process and tools they utilize without adding cost and complexity. \nJoin Evolving Solutions’ CTO Michael Downs and Enterprise Architect Ted Letofsky for a webinar covering topics including: \n\nDiscovering and understanding application workflows\nBusiness recovery across on-prem and public cloud environments\nEvaluating resiliency against ransomware and data loss\n\nRegister here today to save your spot in this exclusive event. \nShare this article:
URL:https://evolvingsol.com/event/data-protection-in-a-hybrid-world/
CATEGORIES:Events
ATTACH;FMTTYPE=image/jpeg:https://evolvingsol.com/wp-content/uploads/2022/01/2.24.22-Data-Protection-in-a-Hybrid-World-scaled.jpg
END:VEVENT
BEGIN:VEVENT
DTSTART;TZID=America/Chicago:20220215T093000
DTEND;TZID=America/Chicago:20220215T140000
DTSTAMP:20260420T054355
CREATED:20211221T141116Z
LAST-MODIFIED:20211221T141116Z
UID:9584-1644917400-1644933600@evolvingsol.com
SUMMARY:Modern Networking Workshop Series - Transport to the Cloud
DESCRIPTION:Tuesday\, February 15\, 2022 from 9:00 AM – 2:00 PM CST\n\n\n\n\n\n\n\nTime:\n9:30 am – 10:00 am: Registration\n10:00 am – 2:00 pm: Workshop (including lunch) \nLocation:\nEvolving Solutions\nClient Innovation Center\n3989 County Road 116\nHamel\, MN 55340 \nIs your organization migrating to the Cloud without a plan\, or need assistance with a more effective plan?  Join the “Transport to the Cloud” workshop to learn about scalable Cloud network architectures from some of the industries best.  Topics will include: \n\nCloud Connectivity options\, benefits\, and drawbacks\nRedundancy – Managing multiple Region Networks\nCarrier Neutral Cloud OnRamp Solutions\nMultiCloud – Architectures for MultiCloud networking\nRemote Sites to Cloud – Cloud native SD-WAN vs. vendor SD-WAN\nPrivate remote user access to cloud apps\nMigrating a Brownfield data center to Cloud\n\nThis is the first session in a three-part workshop series.  Mark your calendar for parts two and three of this workshop series: \nPart 2: Tuesday\, April 12\, 2022 – SD-WAN\nPart 3: Tuesday\, May 17\, 2022 – SASE \nRegister today!\n\n\n\nShare this article:
URL:https://evolvingsol.com/event/modern-networking-workshop-series-transport-to-the-cloud/
CATEGORIES:Education,Events
ATTACH;FMTTYPE=image/jpeg:https://evolvingsol.com/wp-content/uploads/2021/12/2.15.22-Transport-to-the-Cloud-scaled.jpg
END:VEVENT
BEGIN:VEVENT
DTSTART;TZID=America/Chicago:20220210T153000
DTEND;TZID=America/Chicago:20220210T173000
DTSTAMP:20260420T054355
CREATED:20211217T012924Z
LAST-MODIFIED:20211217T012924Z
UID:9581-1644507000-1644514200@evolvingsol.com
SUMMARY:Key Technology Investments for 2022
DESCRIPTION:Webinar with Virtual Wine Tasting\nThursday\, February 10\, 2022 from 3:30 – 5:30 PM CST\n\n\n\n\n\n\n\nJoin Evolving Solutions’ President Bo Gebbie and Chief Technology Officer Michael Downs as they discuss the top five critical technology investments of 2022.  These key solutions will fuel technology innovation\, drive business efficiencies\, and enable your teams to be successful in a hybrid work environment\, \nAfter the discussion\, sit back and enjoy an exclusive trip around the world as we are joined by wine connoisseur Erin Swain in a virtual wine tasting. With years of experience and a bubbly personality\, you will learn all you need to know about wine while she takes you on a trip to the Old World. \nRegister today to save your spot in this exclusive executive event. \n\n\n\nShare this article:
URL:https://evolvingsol.com/event/key-technology-investments-for-2022/
CATEGORIES:Events
ATTACH;FMTTYPE=image/jpeg:https://evolvingsol.com/wp-content/uploads/2021/12/2.10.22-Key-Technology-Wine-Tasting-scaled.jpg
END:VEVENT
BEGIN:VEVENT
DTSTART;TZID=America/Chicago:20211019T100000
DTEND;TZID=America/Chicago:20211019T160000
DTSTAMP:20260420T054355
CREATED:20210929T185034Z
LAST-MODIFIED:20211007T163350Z
UID:9446-1634637600-1634659200@evolvingsol.com
SUMMARY:Evolving Solutions & Silver Peak SD-WAN Workshop
DESCRIPTION:Evolving Solutions and Silver Peak (now Aruba) would like to invite you to a complimentary half-day workshop\, featuring an interactive guided lab experience and deep dive into the EdgeConnect™ SD-WAN edge platform. \nThroughout the course of the workshop\, you will: \n\nLearn how to architect and operate an SD-WAN\nLearn how to successfully deploy an SD-WAN through a series of hands-on labs\nTake a deep dive into advanced SD-WAN features and capabilities\nPractice real-world scenarios to become an expert in operations and troubleshooting\nEarn an SD-WAN certification\n\nThe workshop will run from 10:00am-3:00pm CT at the Evolving Solutions office. \nPeak Performance Workshop Agenda: \n9:30 am – 10:00 am: Arrive/Welcome \n10:00 am – 12:00 pm: Peak Performance Workshop \n12:00 pm – 1:00 pm: Lunch \n1:00 pm – 3:00 pm: Peak Performance Workshop \n3:00 pm – 4:00 pm: Happy Hour – Located at Robert’s (just 5 minutes from Evolving Solutions office) \nLet us bring the next step in your SD-WAN journey to you while you become the SD-WAN expert on your team. Register Now to save your seat! \nShare this article:
URL:https://evolvingsol.com/event/evolving-solutions-silver-peak-sd-wan-workshop/
CATEGORIES:Events,Partner Events
ATTACH;FMTTYPE=image/jpeg:https://evolvingsol.com/wp-content/uploads/2021/09/Silver-Peak-Event-scaled.jpg
END:VEVENT
BEGIN:VEVENT
DTSTART;TZID=America/Chicago:20211014T120000
DTEND;TZID=America/Chicago:20211014T173000
DTSTAMP:20260420T054355
CREATED:20210929T015453Z
LAST-MODIFIED:20211004T201032Z
UID:9437-1634212800-1634232600@evolvingsol.com
SUMMARY:IBM Power Briefing
DESCRIPTION:Join Evolving Solutions and IBM for a technical briefing focused on IBM’s Power portfolio and related offerings. You’ll hear about the latest Power10 announcements\, availability solutions\, and key technologies providing organizations with automation and flexibility for both on-premise and hybrid cloud compute capabilities. Come with questions for our speakers following the sessions. \nAt the conclusion of the event\, join your peers for networking time and a unique whiskey tasting experience. \nREGISTER HERE \nAgenda:\n\nLunch & Check-In: 12:00 PM – 1:00 PM\nBriefing: 1:00 PM – 4:30 PM\nNetworking & Whiskey Tasting: 4:30 PM – 5:30 PM\n\nLocation:\nOmni Vikings Lake Hotel 2611 Nordic Way\, Eagan\, MN 55121 \nShare this article:
URL:https://evolvingsol.com/event/ibm-power-briefing/
CATEGORIES:Events
ATTACH;FMTTYPE=image/jpeg:https://evolvingsol.com/wp-content/uploads/2021/09/10.14.21-IBM-Power-scaled.jpg
END:VEVENT
END:VCALENDAR