BEGIN:VCALENDAR
VERSION:2.0
PRODID:-//Evolving Solutions - ECPv6.15.7//NONSGML v1.0//EN
CALSCALE:GREGORIAN
METHOD:PUBLISH
X-WR-CALNAME:Evolving Solutions
X-ORIGINAL-URL:https://evolvingsol.com
X-WR-CALDESC:Events for Evolving Solutions
REFRESH-INTERVAL;VALUE=DURATION:PT1H
X-Robots-Tag:noindex
X-PUBLISHED-TTL:PT1H
BEGIN:VTIMEZONE
TZID:America/Chicago
BEGIN:DAYLIGHT
TZOFFSETFROM:-0600
TZOFFSETTO:-0500
TZNAME:CDT
DTSTART:20230312T080000
END:DAYLIGHT
BEGIN:STANDARD
TZOFFSETFROM:-0500
TZOFFSETTO:-0600
TZNAME:CST
DTSTART:20231105T070000
END:STANDARD
BEGIN:DAYLIGHT
TZOFFSETFROM:-0600
TZOFFSETTO:-0500
TZNAME:CDT
DTSTART:20240310T080000
END:DAYLIGHT
BEGIN:STANDARD
TZOFFSETFROM:-0500
TZOFFSETTO:-0600
TZNAME:CST
DTSTART:20241103T070000
END:STANDARD
BEGIN:DAYLIGHT
TZOFFSETFROM:-0600
TZOFFSETTO:-0500
TZNAME:CDT
DTSTART:20250309T080000
END:DAYLIGHT
BEGIN:STANDARD
TZOFFSETFROM:-0500
TZOFFSETTO:-0600
TZNAME:CST
DTSTART:20251102T070000
END:STANDARD
END:VTIMEZONE
BEGIN:VEVENT
DTSTART;TZID=America/Chicago:20240520T080000
DTEND;TZID=America/Chicago:20240523T170000
DTSTAMP:20260420T180101
CREATED:20240208T140718Z
LAST-MODIFIED:20240208T140718Z
UID:13402-1716192000-1716483600@evolvingsol.com
SUMMARY:IBM Think 2024
DESCRIPTION:At this multi-day event\, collaborate with industry\, business and technology experts and peers\, who’ll present AI and hybrid cloud strategies and best practices that will unlock value and sustainable competitive advantage for your business. \nWe’ll kick things off on 20 May with IBM Partner Plus Day\, where the partner community will come together to hear about our ecosystem strategy\, network with peers and meet with IBM leaders. \nThink programming starts on 21 May. Keynotes\, immersive experiences\, networking opportunities and live demos focused on key use cases will prepare you for scaling AI across core business functions and industry needs. \nWe can’t wait to see you at the forefront of AI for business.
URL:https://evolvingsol.com/event/ibm-think-2024/
LOCATION:Boston Convention and Exhibition Center\, 415 Summer Street\, Boston\, MA\, 02210\, United States
CATEGORIES:Partner Events
END:VEVENT
END:VCALENDAR