BEGIN:VCALENDAR
VERSION:2.0
PRODID:-//Evolving Solutions - ECPv6.15.7//NONSGML v1.0//EN
CALSCALE:GREGORIAN
METHOD:PUBLISH
X-ORIGINAL-URL:https://evolvingsol.com
X-WR-CALDESC:Events for Evolving Solutions
REFRESH-INTERVAL;VALUE=DURATION:PT1H
X-Robots-Tag:noindex
X-PUBLISHED-TTL:PT1H
BEGIN:VTIMEZONE
TZID:America/Chicago
BEGIN:DAYLIGHT
TZOFFSETFROM:-0600
TZOFFSETTO:-0500
TZNAME:CDT
DTSTART:20250309T080000
END:DAYLIGHT
BEGIN:STANDARD
TZOFFSETFROM:-0500
TZOFFSETTO:-0600
TZNAME:CST
DTSTART:20251102T070000
END:STANDARD
BEGIN:DAYLIGHT
TZOFFSETFROM:-0600
TZOFFSETTO:-0500
TZNAME:CDT
DTSTART:20260308T080000
END:DAYLIGHT
BEGIN:STANDARD
TZOFFSETFROM:-0500
TZOFFSETTO:-0600
TZNAME:CST
DTSTART:20261101T070000
END:STANDARD
BEGIN:DAYLIGHT
TZOFFSETFROM:-0600
TZOFFSETTO:-0500
TZNAME:CDT
DTSTART:20270314T080000
END:DAYLIGHT
BEGIN:STANDARD
TZOFFSETFROM:-0500
TZOFFSETTO:-0600
TZNAME:CST
DTSTART:20271107T070000
END:STANDARD
END:VTIMEZONE
BEGIN:VEVENT
DTSTART;TZID=America/Chicago:20260312T150000
DTEND;TZID=America/Chicago:20260312T173000
DTSTAMP:20260425T084115
CREATED:20260210T181046Z
LAST-MODIFIED:20260210T181046Z
UID:16395-1773327600-1773336600@evolvingsol.com
SUMMARY:North Dakota Tech Connect
DESCRIPTION:
URL:https://evolvingsol.com/event/north-dakota-tech-connect/
CATEGORIES:Events
ATTACH;FMTTYPE=image/avif:https://evolvingsol.com/wp-content/uploads/2025/02/aerial-view-of-fargo-skyline-at-dusk.avif
END:VEVENT
END:VCALENDAR