BEGIN:VCALENDAR
VERSION:2.0
PRODID:-//Evolving Solutions - ECPv6.15.7//NONSGML v1.0//EN
CALSCALE:GREGORIAN
METHOD:PUBLISH
X-WR-CALNAME:Evolving Solutions
X-ORIGINAL-URL:https://evolvingsol.com
X-WR-CALDESC:Events for Evolving Solutions
REFRESH-INTERVAL;VALUE=DURATION:PT1H
X-Robots-Tag:noindex
X-PUBLISHED-TTL:PT1H
BEGIN:VTIMEZONE
TZID:America/Chicago
BEGIN:DAYLIGHT
TZOFFSETFROM:-0600
TZOFFSETTO:-0500
TZNAME:CDT
DTSTART:20240310T080000
END:DAYLIGHT
BEGIN:STANDARD
TZOFFSETFROM:-0500
TZOFFSETTO:-0600
TZNAME:CST
DTSTART:20241103T070000
END:STANDARD
BEGIN:DAYLIGHT
TZOFFSETFROM:-0600
TZOFFSETTO:-0500
TZNAME:CDT
DTSTART:20250309T080000
END:DAYLIGHT
BEGIN:STANDARD
TZOFFSETFROM:-0500
TZOFFSETTO:-0600
TZNAME:CST
DTSTART:20251102T070000
END:STANDARD
BEGIN:DAYLIGHT
TZOFFSETFROM:-0600
TZOFFSETTO:-0500
TZNAME:CDT
DTSTART:20260308T080000
END:DAYLIGHT
BEGIN:STANDARD
TZOFFSETFROM:-0500
TZOFFSETTO:-0600
TZNAME:CST
DTSTART:20261101T070000
END:STANDARD
BEGIN:DAYLIGHT
TZOFFSETFROM:-0600
TZOFFSETTO:-0500
TZNAME:CDT
DTSTART:20270314T080000
END:DAYLIGHT
BEGIN:STANDARD
TZOFFSETFROM:-0500
TZOFFSETTO:-0600
TZNAME:CST
DTSTART:20271107T070000
END:STANDARD
END:VTIMEZONE
BEGIN:VEVENT
DTSTART;TZID=America/Chicago:20260212T160000
DTEND;TZID=America/Chicago:20260212T173000
DTSTAMP:20260424T100106
CREATED:20251112T174643Z
LAST-MODIFIED:20251117T185340Z
UID:16243-1770912000-1770917400@evolvingsol.com
SUMMARY:2026 Top Technology Trends Webinar
DESCRIPTION:
URL:https://evolvingsol.com/event/2026-top-technology-trends-webinar/
CATEGORIES:Webinar
ATTACH;FMTTYPE=image/jpeg:https://evolvingsol.com/wp-content/uploads/2025/11/iStock-2228549496-scaled.jpg
END:VEVENT
BEGIN:VEVENT
DTSTART;TZID=America/Chicago:20251211T100000
DTEND;TZID=America/Chicago:20251211T103000
DTSTAMP:20260424T100106
CREATED:20251121T195653Z
LAST-MODIFIED:20251121T195758Z
UID:16270-1765447200-1765449000@evolvingsol.com
SUMMARY:From Reactive to Resilient: Rethinking Your Cyber Strategy Webinar
DESCRIPTION:Many organizations still operate in reactive mode when it comes to cyber threats\, responding only after damage is done. In this interview-style session\, IBM sits down with Evolving Solutions to unpack the most common cyber resilience challenges their customers face. From ransomware recovery gaps to operational blind spots\, we’ll explore the real-world pain points and the proven practices that help organizations shift from reactive defense to proactive resilience. In this session\, we’ll explore: \n\nCommon cyber resilience gaps observed across mid-size and enterprise organizations\nHow immutability\, segmentation\, and recovery planning can reduce risk and downtime\nReal-time detection and fast recovery best practices\nLessons from real-world resilience and recovery scenarios\n\nHost: Jessica Johnson Principal\, Storage Business Partner Specialist\, IBM Technology Sales\, Americas Global Sales \nEcosystem Guest Speaker: Joel Conaway\, Product Specialist and Account Executive at Evolving Solutions
URL:https://evolvingsol.com/event/from-reactive-to-resilient-webinar/
CATEGORIES:Events,Webinar
ATTACH;FMTTYPE=image/png:https://evolvingsol.com/wp-content/uploads/2025/11/Untitled-design-2.png
END:VEVENT
END:VCALENDAR