BEGIN:VCALENDAR
VERSION:2.0
PRODID:-//Evolving Solutions - ECPv6.15.7//NONSGML v1.0//EN
CALSCALE:GREGORIAN
METHOD:PUBLISH
X-ORIGINAL-URL:https://evolvingsol.com
X-WR-CALDESC:Events for Evolving Solutions
REFRESH-INTERVAL;VALUE=DURATION:PT1H
X-Robots-Tag:noindex
X-PUBLISHED-TTL:PT1H
BEGIN:VTIMEZONE
TZID:America/Chicago
BEGIN:DAYLIGHT
TZOFFSETFROM:-0600
TZOFFSETTO:-0500
TZNAME:CDT
DTSTART:20240310T080000
END:DAYLIGHT
BEGIN:STANDARD
TZOFFSETFROM:-0500
TZOFFSETTO:-0600
TZNAME:CST
DTSTART:20241103T070000
END:STANDARD
BEGIN:DAYLIGHT
TZOFFSETFROM:-0600
TZOFFSETTO:-0500
TZNAME:CDT
DTSTART:20250309T080000
END:DAYLIGHT
BEGIN:STANDARD
TZOFFSETFROM:-0500
TZOFFSETTO:-0600
TZNAME:CST
DTSTART:20251102T070000
END:STANDARD
BEGIN:DAYLIGHT
TZOFFSETFROM:-0600
TZOFFSETTO:-0500
TZNAME:CDT
DTSTART:20260308T080000
END:DAYLIGHT
BEGIN:STANDARD
TZOFFSETFROM:-0500
TZOFFSETTO:-0600
TZNAME:CST
DTSTART:20261101T070000
END:STANDARD
END:VTIMEZONE
BEGIN:VEVENT
DTSTART;VALUE=DATE:20250925
DTEND;VALUE=DATE:20250926
DTSTAMP:20260420T124017
CREATED:20250819T190450Z
LAST-MODIFIED:20250819T190450Z
UID:16105-1758758400-1758844799@evolvingsol.com
SUMMARY:Marvis Cup Classic - Juniper
DESCRIPTION:
URL:https://evolvingsol.com/event/marvis-cup-classic-juniper/
CATEGORIES:Partner Events
ATTACH;FMTTYPE=image/png:https://evolvingsol.com/wp-content/uploads/2025/08/Screenshot-2025-08-19-at-2.03.11-PM.png
END:VEVENT
BEGIN:VEVENT
DTSTART;TZID=America/Chicago:20250925T080000
DTEND;TZID=America/Chicago:20250925T170000
DTSTAMP:20260420T124017
CREATED:20250811T201058Z
LAST-MODIFIED:20250811T201058Z
UID:16101-1758787200-1758819600@evolvingsol.com
SUMMARY:NetApp Annual Golf Event
DESCRIPTION:
URL:https://evolvingsol.com/event/netapp-annual-golf-event/
CATEGORIES:Partner Events
ATTACH;FMTTYPE=image/webp:https://evolvingsol.com/wp-content/uploads/2025/08/unnamed-1.webp
END:VEVENT
END:VCALENDAR